BEGIN:VCALENDAR
VERSION:2.0
PRODID:-//Communauté professionnelle territoriale de santé - ECPv6.15.20//NONSGML v1.0//EN
CALSCALE:GREGORIAN
METHOD:PUBLISH
X-ORIGINAL-URL:https://www.cpts-lievin.fr
X-WR-CALDESC:Évènements pour Communauté professionnelle territoriale de santé
REFRESH-INTERVAL;VALUE=DURATION:PT1H
X-Robots-Tag:noindex
X-PUBLISHED-TTL:PT1H
BEGIN:VTIMEZONE
TZID:Europe/Paris
BEGIN:DAYLIGHT
TZOFFSETFROM:+0100
TZOFFSETTO:+0200
TZNAME:CEST
DTSTART:20240331T010000
END:DAYLIGHT
BEGIN:STANDARD
TZOFFSETFROM:+0200
TZOFFSETTO:+0100
TZNAME:CET
DTSTART:20241027T010000
END:STANDARD
BEGIN:DAYLIGHT
TZOFFSETFROM:+0100
TZOFFSETTO:+0200
TZNAME:CEST
DTSTART:20250330T010000
END:DAYLIGHT
BEGIN:STANDARD
TZOFFSETFROM:+0200
TZOFFSETTO:+0100
TZNAME:CET
DTSTART:20251026T010000
END:STANDARD
BEGIN:DAYLIGHT
TZOFFSETFROM:+0100
TZOFFSETTO:+0200
TZNAME:CEST
DTSTART:20260329T010000
END:DAYLIGHT
BEGIN:STANDARD
TZOFFSETFROM:+0200
TZOFFSETTO:+0100
TZNAME:CET
DTSTART:20261025T010000
END:STANDARD
END:VTIMEZONE
BEGIN:VEVENT
DTSTART;TZID=Europe/Paris:20251120T190000
DTEND;TZID=Europe/Paris:20251120T220000
DTSTAMP:20260421T213847
CREATED:20251110T095015Z
LAST-MODIFIED:20260217T144304Z
UID:10000016-1763665200-1763676000@www.cpts-lievin.fr
SUMMARY:Afterwork 20/11/2025
DESCRIPTION:La CPTS Liévin – Pays d’Artois vous invite à son afterwork\, le jeudi 20 novembre 2025 à partir de 19h au Ménestrel\, 172 Rue Montgolfier\, 62800 Liévin\nPartageons un moment convivial et enrichissant entre acteurs de santé de notre territoire\, et ouvrons-nous à de nouveaux horizons ! \nPour cette soirée\, nos intervenants nous présenteront : \n\nLes Infirmières en Pratique Avancée\, un métier émergent au service du suivi des patients chroniques\, en lien étroit avec les professionnels de santé du territoire.\nLe dispositif « IATROPREV »\, destiné à prévenir les risques liés à la polymédication chez les personnes âgées\, grâce à une évaluation et un accompagnement pluridisciplinaire visant à sécuriser et optimiser les traitements.\nLe Centre de Ressources Territorial\, soutient le bien vieillir à domicile en accompagnant les personnes âgées et les professionnels\, pour prévenir la perte d’autonomie\, améliorer l’accès aux soins et lutter contre l’isolement.\nLes ateliers Prévention Langage\, encadrés par les orthophonistes de la CPTS\, qui aident les parents à détecter et prévenir le retard de langage chez les enfants de moins de 3\,5 ans\, en leur fournissant des outils pour intervenir en cas de difficultés.\nL’équipe BPCO\, composée de professionnels de santé formés au dépistage\, vous accompagne pour identifier les personnes à risque et construire ensemble des actions de prévention adaptées à votre territoire.\n\nLes représentants de la CPTS seront également présents pour répondre à vos questions et vous présenter les projets en cours. \nPensez à réserver votre place !
URL:https://www.cpts-lievin.fr/evenement/afterwork-20-11-2025/
LOCATION:Le Ménestrel\, 172 Rue Montgolfier\, Liévin\, 62800\, France
CATEGORIES:Événements publics
ATTACH;FMTTYPE=image/jpeg:https://www.cpts-lievin.fr/wp-content/uploads/2024/09/WhatsApp-Image-2024-06-28-a-11.11.40_b8d99cf9.jpg
ORGANIZER;CN="CPTS Li%C3%A9vin - Pays d'Artois":MAILTO:cpts.lievin.paysdartois@gmail.com
END:VEVENT
END:VCALENDAR