BEGIN:VCALENDAR
VERSION:2.0
PRODID:-//Communauté professionnelle territoriale de santé - ECPv6.15.20//NONSGML v1.0//EN
CALSCALE:GREGORIAN
METHOD:PUBLISH
X-ORIGINAL-URL:https://www.cpts-lievin.fr
X-WR-CALDESC:Évènements pour Communauté professionnelle territoriale de santé
REFRESH-INTERVAL;VALUE=DURATION:PT1H
X-Robots-Tag:noindex
X-PUBLISHED-TTL:PT1H
BEGIN:VTIMEZONE
TZID:Europe/Paris
BEGIN:DAYLIGHT
TZOFFSETFROM:+0100
TZOFFSETTO:+0200
TZNAME:CEST
DTSTART:20210328T010000
END:DAYLIGHT
BEGIN:STANDARD
TZOFFSETFROM:+0200
TZOFFSETTO:+0100
TZNAME:CET
DTSTART:20211031T010000
END:STANDARD
BEGIN:DAYLIGHT
TZOFFSETFROM:+0100
TZOFFSETTO:+0200
TZNAME:CEST
DTSTART:20220327T010000
END:DAYLIGHT
BEGIN:STANDARD
TZOFFSETFROM:+0200
TZOFFSETTO:+0100
TZNAME:CET
DTSTART:20221030T010000
END:STANDARD
BEGIN:DAYLIGHT
TZOFFSETFROM:+0100
TZOFFSETTO:+0200
TZNAME:CEST
DTSTART:20230326T010000
END:DAYLIGHT
BEGIN:STANDARD
TZOFFSETFROM:+0200
TZOFFSETTO:+0100
TZNAME:CET
DTSTART:20231029T010000
END:STANDARD
END:VTIMEZONE
BEGIN:VEVENT
DTSTART;TZID=Europe/Paris:20220512T140000
DTEND;TZID=Europe/Paris:20220512T180000
DTSTAMP:20260425T055855
CREATED:20220225T164136Z
LAST-MODIFIED:20220303T151639Z
UID:10000005-1652364000-1652378400@www.cpts-lievin.fr
SUMMARY:« PREVENIR POUR MIEUX VIVRE »
DESCRIPTION:3ème édition de la conférence de santé publique autour de la prévention chez la personne âgée.
URL:https://www.cpts-lievin.fr/evenement/prevenir-pour-mieux-vivre/
LOCATION:Centre Arc en Ciel\, 9 Place Gambetta\, Liévin\, 62800\, France
END:VEVENT
END:VCALENDAR